BEGIN:VCALENDAR
VERSION:2.0
PRODID:-//ChamberMaster//Event Calendar 2.0//EN
METHOD:PUBLISH
X-PUBLISHED-TTL:P3D
REFRESH-INTERVAL:P3D
CALSCALE:GREGORIAN
BEGIN:VEVENT
DTSTART:20260209T173000Z
DTEND:20260209T190000Z
X-MICROSOFT-CDO-ALLDAYEVENT:FALSE
SUMMARY:Women's Connect
DESCRIPTION:Women's Connect\n\nEmbracing Hygge: Slowing Down in a Fast-Paced World\n\nMonday\, February 9 | 11:30-1:00PM\n\nLocation: Parkside Church\n\n9560 Paradise Ln\, Waconia\n\n\n\nDiscover the Danish art of hygge (pronounced "hoo-gah") creating warmth\, coziness\, and contentment in life and work. Join us and be inspired by Waconia Chamber women business leaders!\n\n \n\n- Short TED-style talks on slowing down\, building authentic connections\, and finding balance in demanding industries.\n\n- Moderated group discussion on bringing intention into our work\n\n- Meaningful networking in a cozy\, welcoming setting\n\n\n\nSpeakers: \n\nJennifer Kaeding\, AIA\, NCARB - Kaeding Architecture\n\nRachel Licursi - Snap Fitness\n\nDr. Alecia Marfio\, DC - Neubauer Chiropractic Health Center\n\nJennifer Leagjeld\, Main St. Floral\n\n\n\nRegistration\n\nComplimentary for Waconia Chamber Members. Register today!\n\nBring your own lunch\n\n\n\n \n\nNot yet a member? We'd love to have you join us! Contact us to learn more about membership benefits.
X-ALT-DESC;FMTTYPE=text/html:<div style="text-align: center\;"><strong style="font-family: tahoma\; font-size: 20px\; text-align: center\;">Women&#39\;s Connect<br />\nEmbracing Hygge: Slowing Down in a Fast-Paced World</strong><br />\n<span style="font-family: tahoma\;"><span style="font-size: 16px\;"><span style="font-size: 20px\;"><strong>Monday\, February 9&nbsp\;| 11:30-1:00PM<br />\nLocation: Parkside Church</strong></span></span></span><br />\n<strong style="text-align: center\;"><span style="font-size: 11pt\;">9560 Paradise Ln\, Waconia</span></strong></div>\n\n<div style="text-align: center\;"><br />\n<span style="font-size:11.0pt\;">Discover the Danish art of hygge (pronounced &quot\;hoo-gah&quot\;)&mdash\;creating warmth\, coziness\, and contentment in life and work. Join us and be inspired by Waconia Chamber women business leaders!</span><br />\n&nbsp\;</div>\n\n<div style="text-align: center\;"><span style="font-size:11.0pt\;">- Short TED-style talks on slowing down\, building authentic connections\, and finding balance in demanding industries.</span></div>\n\n<div style="text-align: center\;"><span style="font-size:11.0pt\;">- Moderated group discussion on bringing intention into our work</span></div>\n\n<div style="text-align: center\;"><span style="font-size:11.0pt\;">- Meaningful networking in a cozy\, welcoming setting</span></div>\n\n<div style="text-align: center\;"><br />\n<span style="font-size:14px\;"><span style="font-family:tahoma\;"><strong>Speakers:&nbsp\;</strong><br />\nJennifer Kaeding\, AIA\, NCARB&nbsp\;- Kaeding Architecture<br />\nRachel Licursi - Snap Fitness<br />\nDr. Alecia Marfio\, DC - Neubauer Chiropractic Health Center</span></span><br />\n<span style="font-family: tahoma\; font-size: 14px\; text-align: center\;">Jennifer Leagjeld</span><span style="font-family: tahoma\; font-size: 14px\; text-align: center\;">\, Main St. Floral</span><br />\n<br />\n<strong><span style="font-size:11.0pt\;">Registration</span></strong><br />\n<span style="font-size:11.0pt\;">Complimentary for Waconia Chamber Members. Register today!<br />\nBring your own lunch</span><br />\n<br />\n&nbsp\;<br />\n<em><span style="font-size:11.0pt\;">Not yet a member? We&#39\;d love to have you join us! Contact us to learn more about membership benefits.</span></em></div>\n
LOCATION:
UID:e.115.11274
SEQUENCE:3
DTSTAMP:20260424T152446Z
URL:https://waconia.destinationwaconia.org/events/details/women-s-connect-11274
END:VEVENT

END:VCALENDAR
