BEGIN:VCALENDAR
VERSION:2.0
PRODID:-//ChamberMaster//Event Calendar 2.0//EN
METHOD:PUBLISH
X-PUBLISHED-TTL:P3D
REFRESH-INTERVAL:P3D
CALSCALE:GREGORIAN
BEGIN:VEVENT
DTSTART:20261008T210000Z
DTEND:20261008T230000Z
X-MICROSOFT-CDO-ALLDAYEVENT:FALSE
SUMMARY:Tri Chamber Membership Mixer
DESCRIPTION:Thursday\, October 8\, 2026 | 4-6:00PM \n\nPaisley Park\, Chanhassen\n\nMore details coming soon!\n\n \nJoin us for Harvesting Connections\, an annual networking event hosted by the Eden Prairie\, Southwest Metro\, and Waconia Chambers of Commerce. This event offers the perfect opportunity to connect with local business leaders\, share ideas\, and forge new partnerships.\n\n\n\nPlease register to attend. Free to register!
X-ALT-DESC;FMTTYPE=text/html:<div style="text-align: center\;"><span style="font-size:16px\;"><span style="font-family:tahoma\;"><strong>Thursday\, October 8\, 2026 |&nbsp\;4-6:00PM&nbsp\;</strong><br />\nPaisley Park\, Chanhassen<br />\nMore details coming soon!</span></span><br />\n&nbsp\;\n<p style="margin:0in"><span style="font-size:16px\;">Join us for Harvesting Connections\, an annual networking event hosted by the <strong>Eden Prairie\, Southwest Metro</strong>\, and <strong>Waconia Chambers of Commerce</strong>. This event offers the perfect opportunity to connect with local business leaders\, share ideas\, and forge new partnerships.<br />\n<br />\nPlease register to attend. Free to register!</span><br />\n&nbsp\;</p>\n</div>\n
LOCATION:
UID:e.115.11375
SEQUENCE:3
DTSTAMP:20260419T152515Z
URL:https://waconia.destinationwaconia.org/events/details/tri-chamber-membership-mixer-11375
END:VEVENT

END:VCALENDAR
