BEGIN:VCALENDAR
VERSION:2.0
PRODID:-//ChamberMaster//Event Calendar 2.0//EN
METHOD:PUBLISH
X-PUBLISHED-TTL:P3D
REFRESH-INTERVAL:P3D
CALSCALE:GREGORIAN
BEGIN:VEVENT
DTSTART:20261112T150000Z
DTEND:20261112T150000Z
X-MICROSOFT-CDO-ALLDAYEVENT:FALSE
SUMMARY:Retail Meeting
DESCRIPTION:Retail Committee Meeting\n\nThursday\, November 12 | 9:00-10:00 AM\n\nLocation: Waconia Chamber\n\n\n\nThe Chamber's retail and hospitality shop owners\, managers and representatives are invited to gather to engage and share thoughts\, trends\, concerns and strategies. Collaboration is encouraged!
X-ALT-DESC;FMTTYPE=text/html:<div style="text-align: center\;"><strong><span style="font-size:22px\;">Retail Committee Meeting</span></strong><br />\n<strong><span style="font-size:18px\;">Thursday\, November 12 | 9:00-10:00 AM<br />\nLocation: Waconia Chamber</span></strong></div>\n\n<div><br />\nThe Chamber&#39\;s retail and hospitality shop owners\, managers and representatives are invited to gather to engage and share thoughts\, trends\, concerns and strategies. Collaboration is encouraged!<br />\n&nbsp\;</div>\n
LOCATION:Waconia Chamber 201 S Vine Street Waconia\, MN 55387
UID:e.115.9411
SEQUENCE:3
DTSTAMP:20260419T170917Z
URL:https://waconia.destinationwaconia.org/events/details/retail-meeting-11-12-2026-9411
END:VEVENT

END:VCALENDAR
