BEGIN:VCALENDAR
VERSION:2.0
PRODID:-//ChamberMaster//Event Calendar 2.0//EN
METHOD:PUBLISH
X-PUBLISHED-TTL:P3D
REFRESH-INTERVAL:P3D
CALSCALE:GREGORIAN
BEGIN:VEVENT
DTSTART:20260714T180000Z
DTEND:20260714T200000Z
X-MICROSOFT-CDO-ALLDAYEVENT:FALSE
SUMMARY:Learn How: Replacing a Broken Zipper
DESCRIPTION:Is your favorite coat or pair of pants needing a new zipper?  We've got you!  This class is for you. Join us to learn how to replace a zipper or how add a zipper to your project.\n\n\n\nWe'll be teaching you how to take the zipper out of your item\, and how to put it back in. We suggest using a practice item with a separating zipper like those on a hoodie. No pants please. Don't have one you're willing to sacrifice for class? We suggest checking out the thrift stores!\n\n\n\nThis class is for anyone 10 and up who has or can borrow a sewing machine and has basic knowledge of its operation. Space is limited to 10 people. The class will be hosted at the Andrew Peterson Farmstead.\n\nSupplies needed: sewing machine with zipper foot\, thread\, seam ripper\, and a practice item to work on. We have a couple extra machines that may be borrowed.  Spare machines are available on a first-come basis. Please note if you need to borrow one when signing up.\n\n\n\n* This class is appropriate for persons who have a sewing machine and/or basic knowledge of how to use one. *
X-ALT-DESC;FMTTYPE=text/html:Is your favorite coat or pair of pants needing a new zipper?&nbsp\; We&rsquo\;ve got you!&nbsp\; This class is for you. Join us to learn how to replace a zipper or how add a zipper to your project.<br />\n<br />\nWe&rsquo\;ll be teaching you how to take the zipper out of your item\, and how to put it back in. We suggest using a practice item with a separating zipper like those on a hoodie. No pants please. Don&rsquo\;t have one you&rsquo\;re willing to sacrifice for class? We suggest checking out the thrift stores!<br />\n<br />\nThis class is for anyone 10 and up who has or can borrow a sewing machine and has basic knowledge of its operation. Space is limited to 10 people. The class will be hosted at the Andrew Peterson Farmstead.<br />\nSupplies needed: sewing machine with zipper foot\, thread\, seam ripper\, and a practice item to work on. We have a couple extra machines that may be borrowed.&nbsp\; Spare machines are available on a first-come basis. Please note if you need to borrow one when signing up.<br />\n<br />\n* This class is appropriate for persons who have a sewing machine and/or basic knowledge of how to use one. *
LOCATION:Historic Andrew Peterson Farmstead 8060 MN-5\, Waconia
UID:e.115.11372
SEQUENCE:3
DTSTAMP:20260419T123011Z
URL:https://waconia.destinationwaconia.org/events/details/learn-how-replacing-a-broken-zipper-11372
END:VEVENT

END:VCALENDAR
