BEGIN:VCALENDAR
VERSION:2.0
PRODID:-//ChamberMaster//Event Calendar 2.0//EN
METHOD:PUBLISH
X-PUBLISHED-TTL:P3D
REFRESH-INTERVAL:P3D
CALSCALE:GREGORIAN
BEGIN:VEVENT
DTSTART:20240620T134500Z
DTEND:20240620T153000Z
X-MICROSOFT-CDO-ALLDAYEVENT:FALSE
SUMMARY:Chamber Ambassadors
DESCRIPTION:Chamber Ambassadors\n\nJune 20\, 2024\n\n8:45-10:30AM \n\n(or by appointment)\n\n\n\nThe Chamber Ambassadors visit businesses with the mission to learn and make connections. If your business is new to the community\, recently expanded\, under new ownership\, or would like to request a ribbon cutting ceremony\, please contact the Chamber office. 952-442-5812
X-ALT-DESC;FMTTYPE=text/html:<div style="text-align: center\;"><span style="font-size:22px\;"><strong>Chamber Ambassadors</strong></span><br />\n<span style="font-size:18px\;">June 20\, 2024<br />\n8:45-10:30AM </span></div>\n\n<div style="text-align: center\;"><span style="font-size:14px\;">(or by appointment)</span></div>\n\n<div style="text-align: center\;"><br />\nThe Chamber Ambassadors visit businesses with the mission to learn and make connections. If your business is new to the community\, recently expanded\, under new ownership\, or would like to request a ribbon cutting ceremony\, please contact the Chamber office. 952-442-5812</div>\n
LOCATION:Meet at Chamber Office or at designated business.
UID:e.115.10515
SEQUENCE:3
DTSTAMP:20260421T132705Z
URL:https://waconia.destinationwaconia.org/events/details/chamber-ambassadors-06-20-2024-10515
END:VEVENT

END:VCALENDAR
